BEGIN:VCALENDAR
VERSION:2.0
PRODID:-//Maghrib Explor - ECPv6.15.14//NONSGML v1.0//EN
CALSCALE:GREGORIAN
METHOD:PUBLISH
X-WR-CALNAME:Maghrib Explor
X-ORIGINAL-URL:https://maghribexplor.com
X-WR-CALDESC:Events for Maghrib Explor
REFRESH-INTERVAL;VALUE=DURATION:PT1H
X-Robots-Tag:noindex
X-PUBLISHED-TTL:PT1H
BEGIN:VTIMEZONE
TZID:UTC
BEGIN:STANDARD
TZOFFSETFROM:+0000
TZOFFSETTO:+0000
TZNAME:UTC
DTSTART:20250101T000000
END:STANDARD
END:VTIMEZONE
BEGIN:VEVENT
DTSTART;TZID=UTC:20260621T170000
DTEND;TZID=UTC:20260621T170000
DTSTAMP:20260423T123053
CREATED:20241104T044030Z
LAST-MODIFIED:20251028T013012Z
UID:55-1782061200-1782061200@maghribexplor.com
SUMMARY:Mawazine 2026 - Rythmes du Monde
DESCRIPTION:Le festival international Mawazine revient à Rabat avec une programmation exceptionnelle mêlant stars marocaines et artistes internationaux. Une semaine de musique\, de culture et de fête dans une ambiance unique\, symbole du Maroc moderne et ouvert sur le monde.
URL:https://maghribexplor.com/event/mawazine-2026-rythmes-du-monde/
LOCATION:Rabat\, Bouregreg & OLM Souissi\, Bouregreg\, Rabat\, Morocco
CATEGORIES:Culture & Tradition,Festivals & Musique
ATTACH;FMTTYPE=image/webp:https://maghribexplor.com/wp-content/uploads/2024/11/listing-12-copy.webp
ORGANIZER;CN="Maroc Cultures":MAILTO:contact@maghribexplor.ma
END:VEVENT
BEGIN:VEVENT
DTSTART;TZID=UTC:20261120T000000
DTEND;TZID=UTC:20261120T000000
DTSTAMP:20260423T123053
CREATED:20241104T044009Z
LAST-MODIFIED:20251028T013002Z
UID:51-1795132800-1795132800@maghribexplor.com
SUMMARY:Expo Casablanca Design & Art 2026
DESCRIPTION:Une exposition unique rassemblant les talents du design\, de la déco et de l’art contemporain marocain. Venez découvrir des créateurs émergents\, des marques locales et des installations artistiques au cœur de la métropole.
URL:https://maghribexplor.com/event/expo-casablanca-design-art-2026/
LOCATION:Parc d’Expositions de Casablanca (OFEC)\, Parc d’Expositions de Casablanca (OFEC)\, Casablanca\, Morocco
CATEGORIES:Culture & Tradition,Événements Professionnels,Festivals & Musique
ATTACH;FMTTYPE=image/webp:https://maghribexplor.com/wp-content/uploads/2024/11/grand.webp
END:VEVENT
BEGIN:VEVENT
DTSTART;TZID=UTC:20261120T000000
DTEND;TZID=UTC:20261120T000000
DTSTAMP:20260423T123053
CREATED:20241104T044009Z
LAST-MODIFIED:20251028T013007Z
UID:52-1795132800-1795132800@maghribexplor.com
SUMMARY:Festival du Film de Marrakech 2025
DESCRIPTION:Le célèbre Festival International du Film de Marrakech accueille cette année des cinéastes venus du monde entier. Projections\, tapis rouge\, masterclass et rencontres avec les plus grands noms du cinéma : une célébration de l’art et de la création marocaine et internationale.
URL:https://maghribexplor.com/event/festival-du-film-de-marrakech-2025/
LOCATION:Palais des Congrès\, Marrakech\, Palais des Congrès\, Marrakech\, Morocco
CATEGORIES:Culture & Tradition,Événements Professionnels,Festivals & Musique
ATTACH;FMTTYPE=image/webp:https://maghribexplor.com/wp-content/uploads/2024/11/festival-kech.webp
END:VEVENT
BEGIN:VEVENT
DTSTART;TZID=UTC:20261120T000000
DTEND;TZID=UTC:20261120T000000
DTSTAMP:20260423T123053
CREATED:20241104T044030Z
LAST-MODIFIED:20251028T012956Z
UID:56-1795132800-1795132800@maghribexplor.com
SUMMARY:Match d’ouverture - Coupe du Monde 2030 au Maroc
DESCRIPTION:Vivez l’histoire en direct ! Le Maroc accueillera la Coupe du Monde 2030 aux côtés de l’Espagne et du Portugal. L’ouverture officielle se fera à Casablanca\, marquant un tournant historique pour le sport et la fierté nationale.
URL:https://maghribexplor.com/event/match-douverture-coupe-du-monde-2030-au-maroc/
LOCATION:Grand Stade de Casablanca\, Grand Stade de Casablanca\, Casablanca\, Morocco
CATEGORIES:Culture & Tradition,Festivals & Musique
ATTACH;FMTTYPE=image/jpeg:https://maghribexplor.com/wp-content/uploads/2024/11/listing-15.jpg
END:VEVENT
END:VCALENDAR